BEGIN:VCALENDAR
VERSION:2.0
PRODID:icalendar-ruby
CALSCALE:GREGORIAN
METHOD:PUBLISH
BEGIN:VEVENT
DTSTAMP:20260425T143204Z
UID:51-403793@grovetownumc.org
DTSTART:20260426T160000Z
DTEND:20260426T170000Z
CLASS:PUBLIC
CREATED:20260421T094421
DESCRIPTION:
LAST-MODIFIED:20260421T094421
LOCATION:Family Life Center
SUMMARY:Fellowship Lunch
URL;VALUE=URI:https://grovetownumc.org/events/fellowship-lunch--51/2026-04-
 26
END:VEVENT
END:VCALENDAR
